BEGIN:VCALENDAR
VERSION:2.0
PRODID:-//TŠC Maribor - ECPv4.5.13//NONSGML v1.0//EN
CALSCALE:GREGORIAN
METHOD:PUBLISH
X-WR-CALNAME:TŠC Maribor
X-ORIGINAL-URL:https://www.tscmb.si/de
X-WR-CALDESC:Events for TŠC Maribor
BEGIN:VEVENT
DTSTART;VALUE=DATE:20191106
DTEND;VALUE=DATE:20191107
DTSTAMP:20260420T131301
CREATED:20191023T153850Z
LAST-MODIFIED:20191023T153850Z
UID:15439-1573002000-1573088399@www.tscmb.si
SUMMARY:(Slovenian) 1.e/1 in 1.f/1 - Strokovna ekskurzija v Talum d. d. in Pišek - Vitli Krpan d. o. o.
DESCRIPTION:
URL:https://www.tscmb.si/de/dogodek/1-e-1-in-1-f-1-strokovna-ekskurzija-v-talum-d-d-in-pisek-vitli-krpan-d-o-o/
CATEGORIES:Mittelschule
END:VEVENT
END:VCALENDAR