BEGIN:VCALENDAR
VERSION:2.0
PRODID:-//TŠC Maribor - ECPv4.5.13//NONSGML v1.0//EN
CALSCALE:GREGORIAN
METHOD:PUBLISH
X-WR-CALNAME:TŠC Maribor
X-ORIGINAL-URL:https://www.tscmb.si/de
X-WR-CALDESC:Events for TŠC Maribor
BEGIN:VEVENT
DTSTART;TZID=UTC+2:20240606T060000
DTEND;TZID=UTC+2:20240606T190000
DTSTAMP:20260421T003632
CREATED:20240528T091532Z
LAST-MODIFIED:20240528T091532Z
UID:25982-1717653600-1717700400@www.tscmb.si
SUMMARY:(Slovenian) (2.c/2\, 2.d/2) Strokovna ekskurzija na Primorsko
DESCRIPTION:Leider ist der Eintrag nur auf Slowenisch verfügbar. \n
URL:https://www.tscmb.si/de/dogodek/2-c-2-2-d-2-strokovna-ekskurzija-na-primorsko/
CATEGORIES:Mittelschule
ORGANIZER;CN="T%C5%A0C%20Maribor":MAILTO:info@tscmb.si
END:VEVENT
END:VCALENDAR