BEGIN:VCALENDAR
VERSION:2.0
PRODID:-//TŠC Maribor - ECPv4.5.13//NONSGML v1.0//EN
CALSCALE:GREGORIAN
METHOD:PUBLISH
X-WR-CALNAME:TŠC Maribor
X-ORIGINAL-URL:https://www.tscmb.si/de
X-WR-CALDESC:Events for TŠC Maribor
BEGIN:VEVENT
DTSTART;TZID=UTC+2:20240621T073000
DTEND;TZID=UTC+2:20240621T113000
DTSTAMP:20260421T004644
CREATED:20240616T181017Z
LAST-MODIFIED:20240616T181017Z
UID:26116-1718955000-1718969400@www.tscmb.si
SUMMARY:(Slovenian) (2.c/2\, 2.d/2) Strokovna ekskurzija: Orodjarna Imenšek d.o.o. in Lasertehnik Marfin d.o.o.
DESCRIPTION:Leider ist der Eintrag nur auf Slowenisch verfügbar. \n
URL:https://www.tscmb.si/de/dogodek/2-c-2-2-d-2-strokovna-ekskurzija-orodjarna-imensek-d-o-o-in-lasertehnik-marfin-d-o-o/
CATEGORIES:Mittelschule
ORGANIZER;CN="T%C5%A0C%20Maribor":MAILTO:info@tscmb.si
END:VEVENT
END:VCALENDAR