BEGIN:VCALENDAR
VERSION:2.0
PRODID:-//TŠC Maribor - ECPv4.5.13//NONSGML v1.0//EN
CALSCALE:GREGORIAN
METHOD:PUBLISH
X-WR-CALNAME:TŠC Maribor
X-ORIGINAL-URL:https://www.tscmb.si/de
X-WR-CALDESC:Events for TŠC Maribor
BEGIN:VEVENT
DTSTART;TZID=UTC+2:20260127T103000
DTEND;TZID=UTC+2:20260127T112000
DTSTAMP:20260420T013146
CREATED:20260118T142540Z
LAST-MODIFIED:20260118T142702Z
UID:29225-1769509800-1769512800@www.tscmb.si
SUMMARY:(Slovenian) (ASM1) Informativni dan za praktično izobraževanje (PRI)
DESCRIPTION:Leider ist der Eintrag nur auf Slowenisch verfügbar. \n
URL:https://www.tscmb.si/de/dogodek/asm1-informativni-dan-za-prakticno-izobrazevanje-pri/
LOCATION:Zolajeva ulica 12\, Maribor\, 2000\, Slovenija
CATEGORIES:Višja strokovna šola
ORGANIZER;CN="T%C5%A0C%20Maribor%2C%20Vi%C5%A1ja%20strokovna%20%C5%A1ola":MAILTO:referat@tscmb.si
END:VEVENT
END:VCALENDAR