BEGIN:VCALENDAR
VERSION:2.0
PRODID:-//TŠC Maribor - ECPv4.5.13//NONSGML v1.0//EN
CALSCALE:GREGORIAN
METHOD:PUBLISH
X-WR-CALNAME:TŠC Maribor
X-ORIGINAL-URL:https://www.tscmb.si/de
X-WR-CALDESC:Events for TŠC Maribor
BEGIN:VEVENT
DTSTART;TZID=UTC+2:20191003T173000
DTEND;TZID=UTC+2:20191003T180000
DTSTAMP:20260420T221340
CREATED:20190930T152700Z
LAST-MODIFIED:20191003T065626Z
UID:15047-1570123800-1570125600@www.tscmb.si
SUMMARY:(Slovenian) Informativni sestanek - IZREDNI ŠTUDIJ
DESCRIPTION:Leider ist der Eintrag nur auf Slowenisch verfügbar. \n
URL:https://www.tscmb.si/de/dogodek/informativni-sestanek-izredni-studij-2019/
CATEGORIES:Višja strokovna šola
ORGANIZER;CN="T%C5%A0C%20Maribor%2C%20Vi%C5%A1ja%20strokovna%20%C5%A1ola":MAILTO:referat@tscmb.si
END:VEVENT
END:VCALENDAR