BEGIN:VCALENDAR
VERSION:2.0
PRODID:-//TŠC Maribor - ECPv4.5.13//NONSGML v1.0//EN
CALSCALE:GREGORIAN
METHOD:PUBLISH
X-WR-CALNAME:TŠC Maribor
X-ORIGINAL-URL:https://www.tscmb.si/de
X-WR-CALDESC:Events for TŠC Maribor
BEGIN:VEVENT
DTSTART;TZID=UTC+2:20231116T150000
DTEND;TZID=UTC+2:20231116T170000
DTSTAMP:20260420T034236
CREATED:20231106T182831Z
LAST-MODIFIED:20231106T182831Z
UID:24504-1700146800-1700154000@www.tscmb.si
SUMMARY:(Slovenian) Karierni sejem 2023
DESCRIPTION:Leider ist der Eintrag nur auf Slowenisch verfügbar. \n
URL:https://www.tscmb.si/de/dogodek/karierni-sejem-2023/
LOCATION:Koroška cesta 130\, Maribor\, 2000
CATEGORIES:Mittelschule
ORGANIZER;CN="T%C5%A0C%20Maribor":MAILTO:info@tscmb.si
END:VEVENT
END:VCALENDAR