BEGIN:VCALENDAR
VERSION:2.0
PRODID:-//TŠC Maribor - ECPv4.5.13//NONSGML v1.0//EN
CALSCALE:GREGORIAN
METHOD:PUBLISH
X-WR-CALNAME:TŠC Maribor
X-ORIGINAL-URL:https://www.tscmb.si/de
X-WR-CALDESC:Events for TŠC Maribor
BEGIN:VEVENT
DTSTART;TZID=UTC+2:20240529T080000
DTEND;TZID=UTC+2:20240529T130000
DTSTAMP:20260420T234408
CREATED:20240524T062118Z
LAST-MODIFIED:20240524T062118Z
UID:25946-1716969600-1716987600@www.tscmb.si
SUMMARY:(Slovenian) Naravoslovni dan: mestni park
DESCRIPTION:Leider ist der Eintrag nur auf Slowenisch verfügbar. \n
URL:https://www.tscmb.si/de/dogodek/naravoslovni-dan-mestni-park/
CATEGORIES:Mittelschule
ORGANIZER;CN="T%C5%A0C%20Maribor":MAILTO:info@tscmb.si
END:VEVENT
END:VCALENDAR