BEGIN:VCALENDAR
VERSION:2.0
PRODID:-//TŠC Maribor - ECPv4.5.13//NONSGML v1.0//EN
CALSCALE:GREGORIAN
METHOD:PUBLISH
X-WR-CALNAME:TŠC Maribor
X-ORIGINAL-URL:https://www.tscmb.si/de
X-WR-CALDESC:Events for TŠC Maribor
BEGIN:VEVENT
DTSTART;VALUE=DATE:20240628
DTEND;VALUE=DATE:20240628
DTSTAMP:20260420T230206
CREATED:20240624T100141Z
LAST-MODIFIED:20240624T100350Z
UID:26153-1719532800-1719619199@www.tscmb.si
SUMMARY:(Slovenian) POPRAVNI\, DOPOLNILNI IN PREDMETNI IZPITI
DESCRIPTION:Leider ist der Eintrag nur auf Slowenisch verfügbar. \n
URL:https://www.tscmb.si/de/dogodek/popravni-dopolnilni-in-predmetni-izpiti/
CATEGORIES:Mittelschule
ORGANIZER;CN="T%C5%A0C%20Maribor":MAILTO:info@tscmb.si
END:VEVENT
END:VCALENDAR