BEGIN:VCALENDAR
VERSION:2.0
PRODID:-//TŠC Maribor - ECPv4.5.13//NONSGML v1.0//EN
CALSCALE:GREGORIAN
METHOD:PUBLISH
X-WR-CALNAME:TŠC Maribor
X-ORIGINAL-URL:https://www.tscmb.si/de
X-WR-CALDESC:Events for TŠC Maribor
BEGIN:VEVENT
DTSTART;TZID=UTC+2:20231124T090000
DTEND;TZID=UTC+2:20231124T130000
DTSTAMP:20260420T021457
CREATED:20231120T130243Z
LAST-MODIFIED:20240116T090404Z
UID:24554-1700816400-1700830800@www.tscmb.si
SUMMARY:(Slovenian) Predstavi Lepa beseda odpira vsa vrata in Mali princ
DESCRIPTION:Leider ist der Eintrag nur auf Slowenisch verfügbar. \n
URL:https://www.tscmb.si/de/dogodek/predstavi-lepa-beseda-odpira-vsa-vrata-in-mali-princ/
CATEGORIES:Mittelschule
ORGANIZER;CN="T%C5%A0C%20Maribor":MAILTO:info@tscmb.si
END:VEVENT
END:VCALENDAR