BEGIN:VCALENDAR
VERSION:2.0
PRODID:-//TŠC Maribor - ECPv4.5.13//NONSGML v1.0//EN
CALSCALE:GREGORIAN
METHOD:PUBLISH
X-WR-CALNAME:TŠC Maribor
X-ORIGINAL-URL:https://www.tscmb.si/de
X-WR-CALDESC:Events for TŠC Maribor
BEGIN:VEVENT
DTSTART;TZID=UTC+2:20240912T170000
DTEND;TZID=UTC+2:20240912T183000
DTSTAMP:20260421T103013
CREATED:20240906T094104Z
LAST-MODIFIED:20240906T094241Z
UID:26479-1726160400-1726165800@www.tscmb.si
SUMMARY:(Slovenian) RODITELJSKI SESTANEK ZA 2.D/1
DESCRIPTION:Leider ist der Eintrag nur auf Slowenisch verfügbar. \n
URL:https://www.tscmb.si/de/dogodek/roditeljski-sestanek-za-2-d-1/
LOCATION:Zolajeva ulica 12\, Maribor\, 2000\, Slovenija
CATEGORIES:Mittelschule
ORGANIZER;CN="T%C5%A0C%20Maribor":MAILTO:info@tscmb.si
END:VEVENT
END:VCALENDAR