BEGIN:VCALENDAR
VERSION:2.0
PRODID:-//TŠC Maribor - ECPv4.5.13//NONSGML v1.0//EN
CALSCALE:GREGORIAN
METHOD:PUBLISH
X-WR-CALNAME:TŠC Maribor
X-ORIGINAL-URL:https://www.tscmb.si/de
X-WR-CALDESC:Events for TŠC Maribor
BEGIN:VEVENT
DTSTART;TZID=UTC+2:20240418T050000
DTEND;TZID=UTC+2:20240418T230000
DTSTAMP:20260421T042130
CREATED:20240408T052528Z
LAST-MODIFIED:20240408T052528Z
UID:25658-1713416400-1713481200@www.tscmb.si
SUMMARY:(Slovenian) Strokovna ekskurzija: podjetji Ducati\, Maserati in mesto Modena
DESCRIPTION:Leider ist der Eintrag nur auf Slowenisch verfügbar. \n
URL:https://www.tscmb.si/de/dogodek/strokovna-ekskurzija-podjetji-ducati-maserati-in-mesto-modena/
CATEGORIES:Mittelschule
ORGANIZER;CN="T%C5%A0C%20Maribor":MAILTO:info@tscmb.si
END:VEVENT
END:VCALENDAR