BEGIN:VCALENDAR
VERSION:2.0
PRODID:-//TŠC Maribor - ECPv4.5.13//NONSGML v1.0//EN
CALSCALE:GREGORIAN
METHOD:PUBLISH
X-WR-CALNAME:TŠC Maribor
X-ORIGINAL-URL:https://www.tscmb.si/de
X-WR-CALDESC:Events for TŠC Maribor
BEGIN:VEVENT
DTSTART;TZID=UTC+2:20240528T140000
DTEND;TZID=UTC+2:20240528T160000
DTSTAMP:20260421T010155
CREATED:20240522T110753Z
LAST-MODIFIED:20240523T073840Z
UID:25931-1716904800-1716912000@www.tscmb.si
SUMMARY:(Slovenian) ZAGOVOR DIPLOMSKIH NALOG
DESCRIPTION:Leider ist der Eintrag nur auf Slowenisch verfügbar. \n
URL:https://www.tscmb.si/de/dogodek/zagovor-diplomskih-nalog-31/
CATEGORIES:Višja strokovna šola
ORGANIZER;CN="T%C5%A0C%20Maribor":MAILTO:info@tscmb.si
END:VEVENT
END:VCALENDAR