BEGIN:VCALENDAR
VERSION:2.0
PRODID:-//TŠC Maribor - ECPv4.5.13//NONSGML v1.0//EN
CALSCALE:GREGORIAN
METHOD:PUBLISH
X-WR-CALNAME:TŠC Maribor
X-ORIGINAL-URL:https://www.tscmb.si
X-WR-CALDESC:Events for TŠC Maribor
BEGIN:VEVENT
DTSTART;VALUE=DATE:20190611
DTEND;VALUE=DATE:20190612
DTSTAMP:20260419T125949
CREATED:20190603T172111Z
LAST-MODIFIED:20190603T172210Z
UID:14392-1560214800-1560301199@www.tscmb.si
SUMMARY:1.d/1 in 1.e/1: Knjižnica Tezno in delavnica Učenje učenja
DESCRIPTION:
URL:https://www.tscmb.si/dogodek/1-d-1-in-1-e-1-knjiznica-tezno-in-delavnica-ucenje-ucenja/
CATEGORIES:Srednja šola
END:VEVENT
END:VCALENDAR