BEGIN:VCALENDAR
VERSION:2.0
PRODID:-//TŠC Maribor - ECPv4.5.13//NONSGML v1.0//EN
CALSCALE:GREGORIAN
METHOD:PUBLISH
X-WR-CALNAME:TŠC Maribor
X-ORIGINAL-URL:https://www.tscmb.si
X-WR-CALDESC:Events for TŠC Maribor
BEGIN:VEVENT
DTSTART;TZID=UTC+2:20240603T073000
DTEND;TZID=UTC+2:20240603T110000
DTSTAMP:20260420T220712
CREATED:20240528T084939Z
LAST-MODIFIED:20240528T084939Z
UID:25976-1717399800-1717412400@www.tscmb.si
SUMMARY:(2.a/1 - 2.d/1) Zdravstvena vzgoja
DESCRIPTION:3. 6. 2024: Zdravstvena vzgoja \n \n
URL:https://www.tscmb.si/dogodek/2-a-1-2-d-1-zdravstvena-vzgoja/
LOCATION:Zolajeva ulica 12\, Maribor\, 2000\, Slovenija
GEO:46.5252944;15.671869
X-APPLE-STRUCTURED-LOCATION;VALUE=URI;X-ADDRESS=Zolajeva ulica 12 Maribor 2000 Slovenija;X-APPLE-RADIUS=500;X-TITLE=Zolajeva ulica 12:geo:15.671869,46.5252944
CATEGORIES:Srednja šola
ORGANIZER;CN="T%C5%A0C%20Maribor":MAILTO:info@tscmb.si
END:VEVENT
END:VCALENDAR