BEGIN:VCALENDAR
VERSION:2.0
PRODID:-//TŠC Maribor - ECPv4.5.13//NONSGML v1.0//EN
CALSCALE:GREGORIAN
METHOD:PUBLISH
X-WR-CALNAME:TŠC Maribor
X-ORIGINAL-URL:https://www.tscmb.si
X-WR-CALDESC:Events for TŠC Maribor
BEGIN:VEVENT
DTSTART;TZID=UTC+2:20241106T170000
DTEND;TZID=UTC+2:20241106T174500
DTSTAMP:20260420T183411
CREATED:20241105T054419Z
LAST-MODIFIED:20241105T054419Z
UID:26922-1730912400-1730915100@www.tscmb.si
SUMMARY:2. popoldanske govorilne ure 2024/25
DESCRIPTION:2. popoldanske govorilne ure \n
URL:https://www.tscmb.si/dogodek/2-popoldanske-govorilne-ure-2024-25/
LOCATION:Zolajeva ulica 12\, Maribor\, 2000\, Slovenija
CATEGORIES:Srednja šola
ORGANIZER;CN="T%C5%A0C%20Maribor":MAILTO:info@tscmb.si
END:VEVENT
END:VCALENDAR