BEGIN:VCALENDAR
VERSION:2.0
PRODID:-//TŠC Maribor - ECPv4.5.13//NONSGML v1.0//EN
CALSCALE:GREGORIAN
METHOD:PUBLISH
X-WR-CALNAME:TŠC Maribor
X-ORIGINAL-URL:https://www.tscmb.si
X-WR-CALDESC:Events for TŠC Maribor
BEGIN:VEVENT
DTSTART;TZID=UTC+2:20240207T180000
DTEND;TZID=UTC+2:20240207T210000
DTSTAMP:20260420T125922
CREATED:20240205T083827Z
LAST-MODIFIED:20240205T083827Z
UID:25218-1707328800-1707339600@www.tscmb.si
SUMMARY:2. roditeljski sestanek | 5. popoldanske govorilne ure 2023/24
DESCRIPTION:2. roditeljski sestanek | 5. popoldanske govorilne ure 2023/24 \n \n
URL:https://www.tscmb.si/dogodek/2-roditeljski-sestanek-5-popoldanske-govorilne-ure-2023-24/
LOCATION:Zolajeva ulica 12\, Maribor\, 2000\, Slovenija
CATEGORIES:Srednja šola
ORGANIZER;CN="T%C5%A0C%20Maribor":MAILTO:info@tscmb.si
END:VEVENT
END:VCALENDAR