BEGIN:VCALENDAR
VERSION:2.0
PRODID:-//TŠC Maribor - ECPv4.5.13//NONSGML v1.0//EN
CALSCALE:GREGORIAN
METHOD:PUBLISH
X-WR-CALNAME:TŠC Maribor
X-ORIGINAL-URL:https://www.tscmb.si
X-WR-CALDESC:Events for TŠC Maribor
BEGIN:VEVENT
DTSTART;VALUE=DATE:20180529
DTEND;VALUE=DATE:20180530
DTSTAMP:20260419T140849
CREATED:20180523T173020Z
LAST-MODIFIED:20180524T055210Z
UID:11787-1527555600-1527641999@www.tscmb.si
SUMMARY:29. 5. 2018: 2.a/2 in 2.d/2 - strokovna ekskurzija
DESCRIPTION:Dijaki 2.a/2  in 2.d/2 se boste 29. 5. 2018 v okviru interesnih dejavnosti udeležili strokovne ekskurzije v Luko Koper\, podjetje Tomos ter si ogledali stari mestni jedri Kopra in Pirana. \nOdhod na strokovno ekskurzijo bo ob 7.00. Pred TŠC-jem se zberete ob 6.45\, povratek predvidoma v zgodnjih večernih  urah. \nDijaki\, ki ste se z razredniki tako dogovorili\, vstopite na avtobus v Slovenski Bistrici  ob 7.10 ( pri trgovskem centru Spar ). \nS seboj morate imeti veljavno osebno izkaznico ali potni list! \nSpremljevalci:\n2.a/2 – Maja Gradišnik in Ramona Arnuš\n2.d/2 – Zmago Ciringer in Franci Gajšek \n
URL:https://www.tscmb.si/dogodek/29-5-2018-2-a-2-in-2-d-2-strokovna-ekskurzija/
CATEGORIES:Srednja šola
END:VEVENT
END:VCALENDAR