BEGIN:VCALENDAR
VERSION:2.0
PRODID:-//TŠC Maribor - ECPv4.5.13//NONSGML v1.0//EN
CALSCALE:GREGORIAN
METHOD:PUBLISH
X-WR-CALNAME:TŠC Maribor
X-ORIGINAL-URL:https://www.tscmb.si
X-WR-CALDESC:Events for TŠC Maribor
BEGIN:VEVENT
DTSTART;TZID=UTC+2:20231114T095000
DTEND;TZID=UTC+2:20231114T120000
DTSTAMP:20260420T064404
CREATED:20231106T181619Z
LAST-MODIFIED:20240116T090527Z
UID:24502-1699955400-1699963200@www.tscmb.si
SUMMARY:(4.c/1) Strokovna ekskurzija v SMM d.o.o.
DESCRIPTION:13. 11. in 14. 11. 2023: 4. b/1 in 4. c/1 (SMM proizvodni sistemi d.o.o.) \n \n
URL:https://www.tscmb.si/dogodek/4-c-1-strokovna-ekskurzija-v-smm-d-o-o/
CATEGORIES:Srednja šola
ORGANIZER;CN="T%C5%A0C%20Maribor":MAILTO:info@tscmb.si
END:VEVENT
END:VCALENDAR