BEGIN:VCALENDAR
VERSION:2.0
PRODID:-//TŠC Maribor - ECPv4.5.13//NONSGML v1.0//EN
CALSCALE:GREGORIAN
METHOD:PUBLISH
X-WR-CALNAME:TŠC Maribor
X-ORIGINAL-URL:https://www.tscmb.si
X-WR-CALDESC:Events for TŠC Maribor
BEGIN:VEVENT
DTSTART;TZID=UTC+2:20241108T100000
DTEND;TZID=UTC+2:20241108T130000
DTSTAMP:20260420T152159
CREATED:20241105T154256Z
LAST-MODIFIED:20241106T100114Z
UID:26912-1731060000-1731070800@www.tscmb.si
SUMMARY:(ASM) Karierni dan VSŠ 2024 #2
DESCRIPTION: \nTema: Predstavitev podjetij s poudarkom na nudenju izvedbe praktičnega izobraževanja študentom Višje strokovne šole TŠC Maribor in predstavitvijo nadaljnjih možnosti nadaljevanja karierne poti. Študenti VSŠ avtoservisni menedžment – obvezna prisotnost! Po končanih predstavitvah sledi pouk po urniku. \nKdaj: v petek\, 8. novembra 2024 od 9:00 do 12:00. \nKje: TŠC Maribor\, 3. nadstropje A objekta\, velika predavalnica A305. \nKdo: \n\n9.00: Avtomobili P.R. d.o.o.\n9.20: FPL Avtocenter Pušnik d.o.o.\n9.40: Avto Jarc d.o.o.\n10.00: TDS Tadej Šprah s.p.\n10.20: Avtohiša Ferk d.o.o.\n10.40: Top avtomobili d.o.o.\n\n\nPotek: \n\npredstavitev podjetij s pričetkom ob 9:00 v A305\,\n15 min. predstavitev + 5 min. vprašanja iz publike na posamezno podjetje\,\nindividualni razgovori s študenti po izvedenih posameznih predstavitvah podjetij: sejna soba A301.\n\nVsebina predstavitve: \n\nosnovno o podjetju – dejavnost\,\nželeni profili kadrov (inženirjev VSŠ)\,\nmožnosti za opravljanje praktičnega izobraževanja + mentorstvo v podjetju\,\nmožnosti štipendiranja\,\nmožnosti študentskega dela\,\nmožnosti zaposlitve\,\nmožnosti nadaljnjega izobraževanja ob delu.\n\nIndividualna srečanja: \n\nNa individualni razgovor študenti prinesete izpolnjen obrazec Prošnja za opravljanje PRI.\n\n
URL:https://www.tscmb.si/dogodek/asm-karierni-dan-vss-2024-2/
LOCATION:Zolajeva ulica 12\, Maribor\, 2000\, Slovenija
GEO:46.5252944;15.671869
X-APPLE-STRUCTURED-LOCATION;VALUE=URI;X-ADDRESS=Zolajeva ulica 12 Maribor 2000 Slovenija;X-APPLE-RADIUS=500;X-TITLE=Zolajeva ulica 12:geo:15.671869,46.5252944
CATEGORIES:Višja strokovna šola
ORGANIZER;CN="T%C5%A0C%20Maribor%2C%20Vi%C5%A1ja%20strokovna%20%C5%A1ola":MAILTO:referat@tscmb.si
END:VEVENT
END:VCALENDAR