BEGIN:VCALENDAR
VERSION:2.0
PRODID:-//TŠC Maribor - ECPv4.5.13//NONSGML v1.0//EN
CALSCALE:GREGORIAN
METHOD:PUBLISH
X-WR-CALNAME:TŠC Maribor
X-ORIGINAL-URL:https://www.tscmb.si
X-WR-CALDESC:Events for TŠC Maribor
BEGIN:VEVENT
DTSTART;TZID=UTC+2:20230110T160000
DTEND;TZID=UTC+2:20230110T200000
DTSTAMP:20260420T120852
CREATED:20230108T133111Z
LAST-MODIFIED:20230108T133111Z
UID:22576-1673366400-1673380800@www.tscmb.si
SUMMARY:(ASM1) nadomestna predavanja pri predmetu MGV
DESCRIPTION:(ASM1) Obvestilo za predmet MGV \n \n
URL:https://www.tscmb.si/dogodek/asm1-nadomestna-predavanja-pri-predmetu-mgv/
CATEGORIES:Višja strokovna šola
ORGANIZER;CN="T%C5%A0C%20Maribor%2C%20Vi%C5%A1ja%20strokovna%20%C5%A1ola":MAILTO:referat@tscmb.si
END:VEVENT
END:VCALENDAR