BEGIN:VCALENDAR
VERSION:2.0
PRODID:-//TŠC Maribor - ECPv4.5.13//NONSGML v1.0//EN
CALSCALE:GREGORIAN
METHOD:PUBLISH
X-WR-CALNAME:TŠC Maribor
X-ORIGINAL-URL:https://www.tscmb.si
X-WR-CALDESC:Events for TŠC Maribor
BEGIN:VEVENT
DTSTART;TZID=UTC+2:20221202T230000
DTEND;TZID=UTC+2:20221203T003000
DTSTAMP:20260420T131424
CREATED:20221110T063917Z
LAST-MODIFIED:20221111T105611Z
UID:22432-1670022000-1670027400@www.tscmb.si
SUMMARY:Brucovanje študentov mariborskih VSŠ
DESCRIPTION:Brucovanje študentov mariborskih višjih strokovnih šol bo v petek\, 2. decembra 2022 v Klubu KMŠ pri mariborski tržnici. Brezplačne vstopnice lahko študentke in študentje prevzamejo v referatih šole od 15. novembra 2022 naprej. \n \n
URL:https://www.tscmb.si/dogodek/brucovanje-studentov-mariborskih-vss/
CATEGORIES:Višja strokovna šola
ORGANIZER;CN="T%C5%A0C%20Maribor%2C%20Vi%C5%A1ja%20strokovna%20%C5%A1ola":MAILTO:referat@tscmb.si
END:VEVENT
END:VCALENDAR