BEGIN:VCALENDAR
VERSION:2.0
PRODID:-//TŠC Maribor - ECPv4.5.13//NONSGML v1.0//EN
CALSCALE:GREGORIAN
METHOD:PUBLISH
X-WR-CALNAME:TŠC Maribor
X-ORIGINAL-URL:https://www.tscmb.si
X-WR-CALDESC:Events for TŠC Maribor
BEGIN:VEVENT
DTSTART;TZID=UTC+2:20240509T085000
DTEND;TZID=UTC+2:20240509T140000
DTSTAMP:20260421T000946
CREATED:20240506T083351Z
LAST-MODIFIED:20240506T083351Z
UID:25812-1715244600-1715263200@www.tscmb.si
SUMMARY:Dan varne vožnje in pouk na prostem 2024
DESCRIPTION:9. 5. 2024: Dan varne vožnje in pouk na prostem 2024 \n \n
URL:https://www.tscmb.si/dogodek/dan-varne-voznje-in-pouk-na-prostem-2024/
CATEGORIES:Srednja šola
ORGANIZER;CN="T%C5%A0C%20Maribor":MAILTO:info@tscmb.si
END:VEVENT
END:VCALENDAR