BEGIN:VCALENDAR
VERSION:2.0
PRODID:-//TŠC Maribor - ECPv4.5.13//NONSGML v1.0//EN
CALSCALE:GREGORIAN
METHOD:PUBLISH
X-WR-CALNAME:TŠC Maribor
X-ORIGINAL-URL:https://www.tscmb.si
X-WR-CALDESC:Events for TŠC Maribor
BEGIN:VEVENT
DTSTART;TZID=UTC+2:20240417T163000
DTEND;TZID=UTC+2:20240417T173000
DTSTAMP:20260421T010130
CREATED:20240415T070244Z
LAST-MODIFIED:20240415T070244Z
UID:25735-1713371400-1713375000@www.tscmb.si
SUMMARY:Dan za diplomiranje 2024
DESCRIPTION:Dan za diplomiranje 2024 \n \n
URL:https://www.tscmb.si/dogodek/dan-za-diplomiranje-2024/
LOCATION:Zolajeva ulica 12\, Maribor\, 2000\, Slovenija
GEO:46.5252944;15.671869
X-APPLE-STRUCTURED-LOCATION;VALUE=URI;X-ADDRESS=Zolajeva ulica 12 Maribor 2000 Slovenija;X-APPLE-RADIUS=500;X-TITLE=Zolajeva ulica 12:geo:15.671869,46.5252944
CATEGORIES:Višja strokovna šola
ORGANIZER;CN="%C5%A0tudijska%20komisija":MAILTO:studijska.komisija@tscmb.si
END:VEVENT
END:VCALENDAR