BEGIN:VCALENDAR
VERSION:2.0
PRODID:-//TŠC Maribor - ECPv4.5.13//NONSGML v1.0//EN
CALSCALE:GREGORIAN
METHOD:PUBLISH
X-WR-CALNAME:TŠC Maribor
X-ORIGINAL-URL:https://www.tscmb.si
X-WR-CALDESC:Events for TŠC Maribor
BEGIN:VEVENT
DTSTART;VALUE=DATE:20181214
DTEND;VALUE=DATE:20181214
DTSTAMP:20260420T094843
CREATED:20181212T192020Z
LAST-MODIFIED:20181212T192020Z
UID:12939-1544745600-1544831999@www.tscmb.si
SUMMARY:Ekokviz ob 13.00
DESCRIPTION:
URL:https://www.tscmb.si/dogodek/ekokviz-ob-13-00/
CATEGORIES:Srednja šola
END:VEVENT
END:VCALENDAR