BEGIN:VCALENDAR
VERSION:2.0
PRODID:-//TŠC Maribor - ECPv4.5.13//NONSGML v1.0//EN
CALSCALE:GREGORIAN
METHOD:PUBLISH
X-WR-CALNAME:TŠC Maribor
X-ORIGINAL-URL:https://www.tscmb.si/en
X-WR-CALDESC:Events for TŠC Maribor
BEGIN:VEVENT
DTSTART;TZID=UTC+2:20221027T093000
DTEND;TZID=UTC+2:20221027T160000
DTSTAMP:20260420T113634
CREATED:20221018T105056Z
LAST-MODIFIED:20221018T105056Z
UID:22360-1666863000-1666886400@www.tscmb.si
SUMMARY:(Slovenian) Fanuc d.o.o. in mesto Celje (4.c/1 in 4.d/1)
DESCRIPTION:Sorry\, this entry is only available in Slovenian. \n
URL:https://www.tscmb.si/en/dogodek/fanuc-d-o-o-in-mesto-celje-4-c-1-in-4-d-1/
CATEGORIES:Srednja šola
ORGANIZER;CN="T%C5%A0C%20Maribor":MAILTO:info@tscmb.si
END:VEVENT
END:VCALENDAR