BEGIN:VCALENDAR
VERSION:2.0
PRODID:-//TŠC Maribor - ECPv4.5.13//NONSGML v1.0//EN
CALSCALE:GREGORIAN
METHOD:PUBLISH
X-WR-CALNAME:TŠC Maribor
X-ORIGINAL-URL:https://www.tscmb.si
X-WR-CALDESC:Events for TŠC Maribor
BEGIN:VEVENT
DTSTART;TZID=UTC+2:20181107T130000
DTEND;TZID=UTC+2:20181107T140000
DTSTAMP:20260420T095216
CREATED:20181025T094348Z
LAST-MODIFIED:20181025T094348Z
UID:12643-1541595600-1541599200@www.tscmb.si
SUMMARY:Informativna predstavitev Fakultete za strojništvo UM
DESCRIPTION:Za dijake zaključnih letnikov SSI in PTI: 4. A/1\, 4. B/1\, 4. C/1 in 2. D/1 \n
URL:https://www.tscmb.si/dogodek/informativna-predstavitev-fakultete-za-strojnistvo-um/
CATEGORIES:Srednja šola
END:VEVENT
END:VCALENDAR