BEGIN:VCALENDAR
VERSION:2.0
PRODID:-//TŠC Maribor - ECPv4.5.13//NONSGML v1.0//EN
CALSCALE:GREGORIAN
METHOD:PUBLISH
X-WR-CALNAME:TŠC Maribor
X-ORIGINAL-URL:https://www.tscmb.si
X-WR-CALDESC:Events for TŠC Maribor
BEGIN:VEVENT
DTSTART;TZID=UTC+2:20240216T160000
DTEND;TZID=UTC+2:20240216T170000
DTSTAMP:20260420T084705
CREATED:20240206T085524Z
LAST-MODIFIED:20240206T085524Z
UID:25239-1708099200-1708102800@www.tscmb.si
SUMMARY:Informativni dan 2024 | MIC – izobraževanje odraslih
DESCRIPTION:INFORMATIVNI DNEVI MIC – IZOBRAŽEVANJE ODRASLIH\nNajdete nas v pritličju na hodniku objekta A (prehod v MIC). \nPREDSTAVITEV MEDPODJETNIŠKEGA IZOBRAŽEVALNEGA CENTRA  |  Informacije \nIZOBRAŽEVANJE V FORMALNIH SREDNJEŠOLSKIH PROGRAMIH \nSplošne informacije  |  Programi  |  Vpis 2024/2025 |  INFORMATIVNA PRIJAVA \nIZOBRAŽEVANJE V NEFORMALNIH PROGRAMIH ZA ODRASLE \nUsposabljanje serviserjev klimatskih naprav  | Mojstrski izpiti |  Pridobivanje NPK \nUSPOSABLJANJE BREZPOSELNIH OSEB \nTEMELJNE KOMPETENCE 2023-2029 (projekt MAKS) \n
URL:https://www.tscmb.si/dogodek/informativni-dan-2024-mic-izobrazevanje-odraslih-2/
LOCATION:Zolajeva ulica 12\, Maribor\, 2000\, Slovenija
CATEGORIES:MIC
ORGANIZER;CN="T%C5%A0C%20Maribor%2C%20MIC":MAILTO:metka.kodrin@tscmb.si
END:VEVENT
END:VCALENDAR