BEGIN:VCALENDAR
VERSION:2.0
PRODID:-//TŠC Maribor - ECPv4.5.13//NONSGML v1.0//EN
CALSCALE:GREGORIAN
METHOD:PUBLISH
X-WR-CALNAME:TŠC Maribor
X-ORIGINAL-URL:https://www.tscmb.si
X-WR-CALDESC:Events for TŠC Maribor
BEGIN:VEVENT
DTSTART;TZID=UTC+2:20191009T170000
DTEND;TZID=UTC+2:20191009T180000
DTSTAMP:20260420T223124
CREATED:20191007T071558Z
LAST-MODIFIED:20191009T114846Z
UID:15165-1570640400-1570644000@www.tscmb.si
SUMMARY:Informativni dan Erasmus+ in PRI
DESCRIPTION:Informativni dan Erasmus+ in PRI \n \n
URL:https://www.tscmb.si/dogodek/informativni-dan-erasmus-in-pri/
CATEGORIES:Višja strokovna šola
ORGANIZER;CN="T%C5%A0C%20Maribor%2C%20Vi%C5%A1ja%20strokovna%20%C5%A1ola":MAILTO:referat@tscmb.si
END:VEVENT
END:VCALENDAR