BEGIN:VCALENDAR
VERSION:2.0
PRODID:-//TŠC Maribor - ECPv4.5.13//NONSGML v1.0//EN
CALSCALE:GREGORIAN
METHOD:PUBLISH
X-WR-CALNAME:TŠC Maribor
X-ORIGINAL-URL:https://www.tscmb.si
X-WR-CALDESC:Events for TŠC Maribor
BEGIN:VEVENT
DTSTART;TZID=UTC+2:20191003T173000
DTEND;TZID=UTC+2:20191003T180000
DTSTAMP:20260420T204546
CREATED:20190930T152700Z
LAST-MODIFIED:20191003T065626Z
UID:15047-1570123800-1570125600@www.tscmb.si
SUMMARY:Informativni sestanek - IZREDNI ŠTUDIJ
DESCRIPTION:\n#cmsmasters_button_69e6907a4f054 { \n	text-align:center; \n} \n\n#cmsmasters_button_69e6907a4f054 .cmsmasters_button:before { \n	margin-right:.5em; \n	margin-left:0; \n	vertical-align:baseline; \n} \n\n#cmsmasters_button_69e6907a4f054 .cmsmasters_button { \n	font-family:'Open Sans'; \n	font-size:24px; \n	line-height:32px; \n	font-weight:bold; \n	font-style:normal; \n	padding-right:10px; \n	padding-left:10px; \n	border-style:solid; \n	background-color:#f6882a;\n	color:#ffffff;\n} \n#cmsmasters_button_69e6907a4f054 .cmsmasters_button:hover { \n	background-color:#ffffff;\n	color:#f6882a;\n} \nVse študente\, vpisane v izredni študij programa Strojništvo vabimo na informativni sestanek\, ki bo v četrtek\, 3.10.2019 ob 16:30 v učilnici C001 (vhod v šolo\, prva učilnica levo). Ravnatelj VSŠ vam bo predstavil plan študija v študijskem letu 2019/20 ter odgovoril na vsa vaša vprašanja\, povezana s študijem. \n\nUrnik IZREDNI STR\, 2019/20\n\n
URL:https://www.tscmb.si/dogodek/informativni-sestanek-izredni-studij-2019/
CATEGORIES:Višja strokovna šola
ORGANIZER;CN="T%C5%A0C%20Maribor%2C%20Vi%C5%A1ja%20strokovna%20%C5%A1ola":MAILTO:referat@tscmb.si
END:VEVENT
END:VCALENDAR