BEGIN:VCALENDAR
VERSION:2.0
PRODID:-//TŠC Maribor - ECPv4.5.13//NONSGML v1.0//EN
CALSCALE:GREGORIAN
METHOD:PUBLISH
X-WR-CALNAME:TŠC Maribor
X-ORIGINAL-URL:https://www.tscmb.si
X-WR-CALDESC:Events for TŠC Maribor
BEGIN:VEVENT
DTSTART;TZID=UTC+2:20191022T140000
DTEND;TZID=UTC+2:20191022T210000
DTSTAMP:20260420T155411
CREATED:20191018T112227Z
LAST-MODIFIED:20191105T084341Z
UID:15426-1571752800-1571778000@www.tscmb.si
SUMMARY:Karierni dan 2019
DESCRIPTION:Odhod avtobusa je ob 12.00 izpred Prometne šole Maribor\, Preradovičeva ulica 33\, 2000 Maribor. \nKarierni dan 2019 \n \n
URL:https://www.tscmb.si/dogodek/karierni-dan-2019/
CATEGORIES:Višja strokovna šola
ORGANIZER;CN="T%C5%A0C%20Maribor%2C%20Vi%C5%A1ja%20strokovna%20%C5%A1ola":MAILTO:referat@tscmb.si
END:VEVENT
END:VCALENDAR