BEGIN:VCALENDAR
VERSION:2.0
PRODID:-//TŠC Maribor - ECPv4.5.13//NONSGML v1.0//EN
CALSCALE:GREGORIAN
METHOD:PUBLISH
X-WR-CALNAME:TŠC Maribor
X-ORIGINAL-URL:https://www.tscmb.si
X-WR-CALDESC:Events for TŠC Maribor
BEGIN:VEVENT
DTSTART;TZID=UTC+2:20251121T090000
DTEND;TZID=UTC+2:20251121T130000
DTSTAMP:20260419T130222
CREATED:20251117T102459Z
LAST-MODIFIED:20251117T102653Z
UID:29004-1763715600-1763730000@www.tscmb.si
SUMMARY:Karierni dan 2025
DESCRIPTION: \nTema: Predstavitev podjetij s poudarkom na nudenju izvedbe praktičnega izobraževanja študentom Višje strokovne šole TŠC Maribor in predstavitvijo nadaljnjih možnosti nadaljevanja karierne poti. \n  \nKdaj: v petek\, 21. novembra 2025 od 9:00 do 13:00. \n  \nKje: TŠC Maribor\, 3. nadstropje A objekta. \n\npredstavitev podjetij za STR (velika predavalnica A308)\,\npredstavitev podjetij za ASM (velika predavalnica A305).\n\n  \nKdo: \n\npodjetja – strojništvo:\n\n9.00: Bauműller Dravinja d.o.o.\n9.30: ADK d.o.o.\n10.00: ARCONT d.o.o.\n10.30: Impol d.d.\n11.00: Geberit proizvodnja d.o.o.\n11.30: Paloma d.d.\n12.00: Weiler Abrasives d.o.o.\n\n\n\npodjetja – avtostroka:\n\n11.00: MOTO-NAUTIKA d.o.o.\n11.30: Wuerth d.o.o.\n12.00: Avto Jarc d.o.o.\n12.30: Zavarovalnica Sava\, d.d.\n\n\n\nredni študenti VSŠ strojništvo – obvezna prisotnost\,\nredni študenti VSŠ ASM – obvezna prisotnost.\n\n  \nPotek: \n\npredstavitev podjetij v A305 in A305\,\n15-20 min. predstavitev + 10 min. vprašanja iz publike na posamezno podjetje\,\nindividualni razgovori s študenti po izvedenih posameznih predstavitvah podjetij:\n\nstrojniki (predavalnica A308)\,\nASM (predavalnica A305).\n\n\n\n  \nVsebina predstavitve: \n\nosnovno o podjetju – dejavnost\,\nželeni profili kadrov (inženirjev VSŠ)\,\nmožnosti za opravljanje praktičnega izobraževanja + mentorstvo v podjetju\,\nmožnosti štipendiranja\,\nmožnosti študentskega dela\,\nmožnosti zaposlitve\,\nmožnosti nadaljnjega izobraževanja ob delu.\n\n  \nIndividualna srečanja: \n\nNa individualni razgovor študenti prinesete izpolnjen obrazec Prošnja za opravljanje PRI.\n\n
URL:https://www.tscmb.si/dogodek/karierni-dan-2025/
LOCATION:Zolajeva ulica 12\, Maribor\, 2000\, Slovenija
GEO:46.5252944;15.671869
X-APPLE-STRUCTURED-LOCATION;VALUE=URI;X-ADDRESS=Zolajeva ulica 12 Maribor 2000 Slovenija;X-APPLE-RADIUS=500;X-TITLE=Zolajeva ulica 12:geo:15.671869,46.5252944
CATEGORIES:Višja strokovna šola
ORGANIZER;CN="T%C5%A0C%20Maribor%2C%20Vi%C5%A1ja%20strokovna%20%C5%A1ola":MAILTO:referat@tscmb.si
END:VEVENT
END:VCALENDAR