BEGIN:VCALENDAR
VERSION:2.0
PRODID:-//TŠC Maribor - ECPv4.5.13//NONSGML v1.0//EN
CALSCALE:GREGORIAN
METHOD:PUBLISH
X-WR-CALNAME:TŠC Maribor
X-ORIGINAL-URL:https://www.tscmb.si
X-WR-CALDESC:Events for TŠC Maribor
BEGIN:VEVENT
DTSTART;TZID=UTC+2:20231116T150000
DTEND;TZID=UTC+2:20231116T170000
DTSTAMP:20260420T050607
CREATED:20231106T182831Z
LAST-MODIFIED:20231106T182831Z
UID:24504-1700146800-1700154000@www.tscmb.si
SUMMARY:Karierni sejem 2023
DESCRIPTION:Za dijake 4.a/1\, 4. b/1\, 4.c/1\, 2.e/1 in 2.f/1.\nNa ta dan imate pouk po urniku do 12.55\, nato se ob 14.00 zberete pred Univerzitetnim športnim centrom Leona Štuklja\, Koroška cesta 130\, Maribor. \n \nV mesecu novembru bo v Mariboru potekal že 8. Karierni sejem – sejem poklicev in izobraževanja 2023 pod že znanim sloganom »Vesolje priložnosti«. Organizirata ga Območno obrtno- podjetniška zbornica Maribor in Štajerska gospodarska zbornica v partnerskem sodelovanju z Mestno občino Maribor\,  Zavodom RS za zaposlovanje – Območno službo Maribor\, Univerzo v Mariboru\, Fundacijo za izboljšanje zaposlitvenih možnosti Prizma\, ustanova in Mladinskim kulturnim centrom Maribor. \nV letošnjem letu je uvedenih nekaj sprememb\, saj bo Karierni sejem potekal za osnovnošolce in srednješolce dva dni skupaj\, na novi lokaciji. Namenjen je osnovnošolcem\, dijakom\, njihovim staršem in svetovalnim delavcem. Vsi sodelujoči partnerji podpirajo izvedbo sejma\, saj je to enkratna priložnost\, da se mladim predstavijo poklici. \nDelodajalci se soočajo z iskanjem ustreznega kadra že precej časa\, saj je pomanjkanje na vseh področjih. To je priložnost\, da se prepriča učence\, dijake oz. bodoče študente kako in predvsem zakaj sodelovati ravno z udeleženimi podjetji na njihovi nadaljnji karierni poti.  To je edinstvena priložnost\, da obrtniki in podjetniki predstavijo svoje možnosti zaposlovanja\, izvedbo praks\, kadrovskega štipendiranja\, itd. Posledično jih bodo lahko spodbudili k aktivni vključenosti v svet dela in jih usmerili v razvoj potrebnih kompetenc. \nVeč informacij \n
URL:https://www.tscmb.si/dogodek/karierni-sejem-2023/
LOCATION:Koroška cesta 130\, Maribor\, 2000
CATEGORIES:Srednja šola
ORGANIZER;CN="T%C5%A0C%20Maribor":MAILTO:info@tscmb.si
END:VEVENT
END:VCALENDAR