BEGIN:VCALENDAR
VERSION:2.0
PRODID:-//TŠC Maribor - ECPv4.5.13//NONSGML v1.0//EN
CALSCALE:GREGORIAN
METHOD:PUBLISH
X-WR-CALNAME:TŠC Maribor
X-ORIGINAL-URL:https://www.tscmb.si
X-WR-CALDESC:Events for TŠC Maribor
BEGIN:VEVENT
DTSTART;TZID=UTC+2:20221117T090000
DTEND;TZID=UTC+2:20221117T190000
DTSTAMP:20260420T121103
CREATED:20221111T094125Z
LAST-MODIFIED:20221116T131127Z
UID:22451-1668675600-1668711600@www.tscmb.si
SUMMARY:Karierni sejem pod sloganom Vesolje priložnosti
DESCRIPTION: \nV mesecu novembru bo v Mariboru potekal že 7. Karierni sejem – sejem poklicev in izobraževanja\, letos pod sloganom Vesolje priložnosti. Sejem bo potekal v Športni dvorani Ljudski vrt\, ‘‘Lukna’’\, partner dogodka pa je tudi MKC Maribor. \nPo dveh letih izvedbe kariernega sejma v virtualni obliki bo letos karierni sejem ponovno mogoče obiskati v živo. Karierni sejem bo potekal 2 dneva\, in sicer \n\nza osnovnošolce v torek\, 15. novembra\, od 8. do 18. ure;\nza srednješolce v četrtek\, 17. novembra\, od 8. do 18. ure.\n\nUdeležba na sejmu je brezplačna\, obiskovalci pa bodo lahko: \n\nspoznali posamezne poklice;\nspoznali izobraževalne ustanove in programe\, ki jih te izvajajo;\nse udeležili dogodkov (delavnic\, predavanj)\, ki so koristni za načrtovanje izobraževalne in karierne poti;\nse seznanili s potencialnimi delodajalci\, z možnostmi za zaposlitev ali za opravljanje prakse;\ndobili informacije o razmerah na trgu dela in deficitarnih poklicih;\nspoznali organizacije\, ki izobražujejo\, usposabljajo ali zaposlujejo mlade invalide;\nspoznali mladinske delavce\, se seznanili z mladinskim delom in s programi\, ki jih izvajajo mladinski centri in druge organizacije\, ki delujejo na področju mladine.\n\nDopoldanske aktivnosti bodo na obeh sejmih namenjene organiziranemu obisku šolarjev in dijakov\, medtem ko je popoldanski del namenjen individualnim obiskom razstavljavcev in bo obogaten z delavnicami in predavanji\, ki so koristni za načrtovanje izobraževalne in karierne poti. Pričakujemo\, da se bo na posameznem sejmu predstavilo več kot 70 razstavljavcev. \n
URL:https://www.tscmb.si/dogodek/karierni-sejem-pod-sloganom-vesolje-priloznosti/
LOCATION:Mladinska ulica 26\, Maribor\, 2000\, Slovenija
CATEGORIES:Srednja šola
ORGANIZER;CN="T%C5%A0C%20Maribor":MAILTO:info@tscmb.si
END:VEVENT
END:VCALENDAR