BEGIN:VCALENDAR
VERSION:2.0
PRODID:-//TŠC Maribor - ECPv4.5.13//NONSGML v1.0//EN
CALSCALE:GREGORIAN
METHOD:PUBLISH
X-WR-CALNAME:TŠC Maribor
X-ORIGINAL-URL:https://www.tscmb.si
X-WR-CALDESC:Events for TŠC Maribor
BEGIN:VEVENT
DTSTART;TZID=UTC+2:20260306T110000
DTEND;TZID=UTC+2:20260306T130000
DTSTAMP:20260420T152518
CREATED:20260316T131124Z
LAST-MODIFIED:20260316T131153Z
UID:29612-1772794800-1772802000@www.tscmb.si
SUMMARY:LCAMP: sodelovanje gospodarstva in višjega šolstva v Sloveniji
DESCRIPTION: \nSrečanje slovenskih podjetij iz industrije 4.0\, predstavitev projekta LCAMP in diskusija glede podpore naprednim proizvodnim centrom poklicne odličnosti (CoVEs) in razvoja kadrov. Prihodnost je digitalna in zelena. \nProgram dogodka: \n11:00 – 11.10: Dobrodošlica \n11.10 – 11.20: Predstavitev udeležencev \n11.20 – 11.40: Skupinska razprava glede stanja na področju Advanced Manufacturing\, industrije 4.0 in povezovanju gospodarstva z višjim šolstvom \n11.40 – 12.00: Kaj je LCAMP in kako lahko koristi gospodarstvu pri razvoju kadrov \n12.00 – 12.30: Projektni cilji LCAMP \n12:30 – 12.45: Predstavitev podjetij in vizija njihove vloge v LCAMP \n12:45 – 13.00: Vprašanja in odgovori\, diskusija \n \n
URL:https://www.tscmb.si/dogodek/lcamp-sodelovanje-gospodarstva-in-visjega-solstva-v-sloveniji-2/
LOCATION:Zolajeva ulica 12\, Maribor\, 2000\, Slovenija
CATEGORIES:Višja strokovna šola
ORGANIZER;CN="T%C5%A0C%20Maribor%2C%20Vi%C5%A1ja%20strokovna%20%C5%A1ola":MAILTO:referat@tscmb.si
END:VEVENT
END:VCALENDAR