BEGIN:VCALENDAR
VERSION:2.0
PRODID:-//TŠC Maribor - ECPv4.5.13//NONSGML v1.0//EN
CALSCALE:GREGORIAN
METHOD:PUBLISH
X-WR-CALNAME:TŠC Maribor
X-ORIGINAL-URL:https://www.tscmb.si
X-WR-CALDESC:Events for TŠC Maribor
BEGIN:VEVENT
DTSTART;TZID=UTC+2:20231222T081500
DTEND;TZID=UTC+2:20231222T110000
DTSTAMP:20260420T022255
CREATED:20231211T090809Z
LAST-MODIFIED:20240116T090433Z
UID:24624-1703232900-1703242800@www.tscmb.si
SUMMARY:Ogled filmske predstave "Je kir ke riku?"
DESCRIPTION:22. 12. 2023: Ogled filmske predstave Je kir ke riku? Poharska komedija \n \n
URL:https://www.tscmb.si/dogodek/ogled-filmske-predstave-je-kir-ke-riku/
LOCATION:Loška ulica 13\, Maribor\, 2000\, Slovenija
CATEGORIES:Srednja šola
ORGANIZER;CN="T%C5%A0C%20Maribor":MAILTO:info@tscmb.si
END:VEVENT
END:VCALENDAR