BEGIN:VCALENDAR
VERSION:2.0
PRODID:-//TŠC Maribor - ECPv4.5.13//NONSGML v1.0//EN
CALSCALE:GREGORIAN
METHOD:PUBLISH
X-WR-CALNAME:TŠC Maribor
X-ORIGINAL-URL:https://www.tscmb.si
X-WR-CALDESC:Events for TŠC Maribor
BEGIN:VEVENT
DTSTART;VALUE=DATE:20240701
DTEND;VALUE=DATE:20240701
DTSTAMP:20260420T231901
CREATED:20240624T100458Z
LAST-MODIFIED:20240624T100458Z
UID:26159-1719792000-1719878399@www.tscmb.si
SUMMARY:POPRAVNI\, DOPOLNILNI IN PREDMETNI IZPITI
DESCRIPTION:MATEMATIKA (MAT)\nIzpraševalki: Gradišnik Breznik Maja\, Strnad Jasna \n\nPISNI IZPIT ob 7.30 v učilnici C101\nUSTNI IZPIT ob 10.00 uri v učilnici C101\n\nIzpitna komisija: \n\nGradišnik Breznik Maja – izpraševalka\, članica\nStrnad Jasna – izpraševalka\, članica\nRitonja Blaž – predsednik\n\nIzpraševalki: Marek Crnjac Leila\, Mertelj Manja \n\nPISNI IZPIT ob 7.30 v učilnici C103\nUSTNI IZPIT ob 9.30 uri v učilnici C103\n\nIzpitna komisija: \nMarek Crnjac Leila – izpraševalka\, članica \nMertelj Manja – izpraševalka\, članica \nBandelj Andreja – predsednica \n  \nSODOBNA GRADIVA (SOG) \nIzpraševalca: Bele Branko\, Horvat Tomislav \n\nUSTNI IZPIT ob 8.00 uri v učilnici C111\n\nIzpitna komisija: \n\nBele Branko – izpraševalec\, član               \nHorvat Tomislav – izpraševalec\, član\nMilošič iztok – predsednik\n\n  \nOBDELAVA GRADIV (OBG)\nTEHNOLOŠKI POSTOPKI IN KAKOVOST (TPK)\nIzpraševalec: Jakopič Franc \n\nPISNI IZPIT ob 8.00 v učilnici C305\nUSTNI IZPIT ob 10.00 uri v učilnici C305\n\nIzpitna komisija: \n\nJakopič Franc – izpraševalec\nMihelak Matej – član\nKukovec Mihael – predsednik\n\n  \nOBLIKOVANJE MATERIALOV (OBM)\nIzpraševalec: Juršič Marko \n\nPISNI IZPIT ob 8.00 v učilnici C113\nUSTNI IZPIT ob 9.30 uri v učilnici C113\n\nIzpitna komisija: \n\nJuršič Marko – izpraševalec\nStanislav Ozebek – član\nTertinek Beno – predsednik\n\n  \nPOSLOVANJE IN ORGANIZACIJA (POR) \nIzpraševalec: Vudler Aleksander \n\nUSTNI IZPIT ob 8.00 uri v učilnici A114\n\nIzpitna komisija: \n\nVudler Aleksander – izpraševalec\nPremz Željka – članica\nKop Jožef – predsednik\n\n  \nGRADNJA ELEKTRIČNIH IN ELEKTRONSKIH SISTEMOV (GES)\nIZDELAVA ELEKTRIČNIH TOKOKROGOV (IET)\nPRIKLOPI ELEKTRIČNIH MOTORJEV (PEM)\nIzpraševalca: Puconja Andrej\, Rutar Dean \n\nPISNI IZPIT (GES\, IET) ob 7.30 v učilnici A111\nUSTNI IZPIT ALI IZDELAVA IZDELKA OZ. STORITVE Z ZAGOVOROM (GES\, IET\, PEM) ob 9.00 v učilnici A012\n\nIzpitna komisija: \n\nPuconja Andrej – izpraševalec\, član\nRutar Dean  – izpraševalec\, član\nCiringer Zmago – predsednik\n\n
URL:https://www.tscmb.si/dogodek/popravni-dopolnilni-in-predmetni-izpiti-2/
CATEGORIES:Srednja šola
ORGANIZER;CN="T%C5%A0C%20Maribor":MAILTO:info@tscmb.si
END:VEVENT
END:VCALENDAR