BEGIN:VCALENDAR
VERSION:2.0
PRODID:-//TŠC Maribor - ECPv4.5.13//NONSGML v1.0//EN
CALSCALE:GREGORIAN
METHOD:PUBLISH
X-WR-CALNAME:TŠC Maribor
X-ORIGINAL-URL:https://www.tscmb.si
X-WR-CALDESC:Events for TŠC Maribor
BEGIN:VEVENT
DTSTART;VALUE=DATE:20240702
DTEND;VALUE=DATE:20240702
DTSTAMP:20260420T211923
CREATED:20240624T100537Z
LAST-MODIFIED:20240624T100537Z
UID:26161-1719878400-1719964799@www.tscmb.si
SUMMARY:POPRAVNI\, DOPOLNILNI IN PREDMETNI IZPITI
DESCRIPTION:INTERESNE DEJAVNOSTI (IND)\nLIČARSKA DELA (LID)\nNARAVOSLOVJE (NAR)\nKEMIJA (KEM)\nIzpraševalki: Dvoršič Suzana\, Volk Vladimira \n\n USTNI IZPIT ob 8.00 v učilnici C308\n\n Izpitna komisija: \n\nDvoršič Suzana – izpraševalka\, članica\nVolk Vladimira – izpraševalka\, članica\nMerklin Dušan – predsednik\n\n  \nSTROKOVNA ANGLEŠČINA (SAN)\nIzpraševalci: Arnuš Ramona\, Mojca Hanželj\, Podbrežnik Andrej \n\nPISNI IZPIT ob 8.00 v učilnici C001\nUSTNI IZPIT ob 9.00 uri v učilnici C001 \n\nIzpitna komisija: \n\nArnuš Ramona – izpraševalka\, članica\nHanželj Mojca – izpraševalka\, članica\nPodbrežnik Andrej – izpraševalec\, predsednik\n\n  \nGRADNJA MEHATRONSKIH SISTEMOV (GMS)\nPNEVMATIKA IN HIDRAVLIKA (PIH)\nIzpraševalec: Juršič Marko \n\nPISNI IZPIT ob 7.30 v učilnici B104\nUSTNI IZPIT ob 9.30 uri v učilnici B104 \n\nIzpitna komisija: \n\nJuršič Marko  – izpraševalec\nGolob Boštjan – član\nAndrej Šuman – predsednik\n\n  \nNAČRTOVANJE KONSTRUKCIJ (NAK) \nKOVINARSTVO (KOV)\nPOGONSKI MOTORJI (POM)\nIzpraševalca: Gajšek Franc\, Horvat Tomislav \n\nPISNI IZPIT (NAK) ob 7.30 v učilnici A205\nUSTNI IZPIT (KOV\, POM) ob 7.30 uri v učilnici A207\nUSTNI IZPIT (NAK) ob 9.30 uri v učilnici A207 \n\nIzpitna komisija: \n\nGajšek Franc – izpraševalec\, član\nHorvat Tomislav – izpraševalec\, član\nŠenveter Jernej – član\nOberški Željko – predsednik\n\n
URL:https://www.tscmb.si/dogodek/popravni-dopolnilni-in-predmetni-izpiti-3/
CATEGORIES:Srednja šola
ORGANIZER;CN="T%C5%A0C%20Maribor":MAILTO:info@tscmb.si
END:VEVENT
END:VCALENDAR