BEGIN:VCALENDAR
VERSION:2.0
PRODID:-//TŠC Maribor - ECPv4.5.13//NONSGML v1.0//EN
CALSCALE:GREGORIAN
METHOD:PUBLISH
X-WR-CALNAME:TŠC Maribor
X-ORIGINAL-URL:https://www.tscmb.si
X-WR-CALDESC:Events for TŠC Maribor
BEGIN:VEVENT
DTSTART;VALUE=DATE:20240816
DTEND;VALUE=DATE:20240816
DTSTAMP:20260420T194002
CREATED:20240705T082526Z
LAST-MODIFIED:20240705T082526Z
UID:26211-1723766400-1723852799@www.tscmb.si
SUMMARY:POPRAVNI\, DOPOLNILNI IN PREDMETNI IZPITI - JESENSKI ROK
DESCRIPTION:MATEMATIKA (MAT) \nIzpraševalki: Gradišnik Breznik Maja\, Strnad Jasna \n\nPISNI IZPIT ob 7.30 v učilnici C101\nUSTNI IZPIT ob 10.00 uri v učilnici C101\n\n\n Izpitna komisija: \n\nGradišnik Breznik Maja – izpraševalka\, članica\nStrnad Jasna – izpraševalka\, članica\nVošnik Boštjan – predsednik\n\nIzpraševalki: Marek Crnjac Leila\, Mertelj Manja \n\nPISNI IZPIT ob 7.30 v učilnici C103\nUSTNI IZPIT ob 9.30 uri v učilnici C103\n\nIzpitna komisija: \n\nMarek Crnjac Leila – izpraševalka\, članica\nMertelj Manja – izpraševalka\, članica\nZelenc Vanja – predsednica\n\n  \n\nOBDELAVA GRADIV (OBG)\nTEHNOLOŠKI POSTOPKI IN KAKOVOST (TPK)\nIzpraševalec: Jakopič Franc \n\nPISNI IZPIT ob 8.00 v učilnici C305\nUSTNI IZPIT ob 10.00 uri v učilnici C305\n\nIzpitna komisija: \n\nJakopič Franc – izpraševalec\nMihelak Matej – član\nTertinek Beno – predsednik\n\n  \n\nGRADNJA ELEKTRIČNIH IN ELEKTRONSKIH SISTEMOV (GES)\nIZDELAVA ELEKTRIČNIH TOKOKROGOV (IET)\nPRIKLOPI ELEKTRIČNIH MOTORJEV (PEM)\nIzpraševalca: Puconja Andrej\, Rutar Dean \n\nPISNI IZPIT (GES\, IET) ob 8.00 v učilnici A111\nUSTNI IZPIT ALI IZDELAVA IZDELKA OZ. STORITVE Z ZAGOVOROM (GES\, IET\, PEM) ob 9.30 v učilnici A012\n\nIzpitna komisija: \n\nPuconja Andrej – izpraševalec\, član\nRutar Dean – izpraševalec\, član\nBenko Marjan – predsednik\n\n  \n\nKAROSERIJSKA OPREMA Z DIAGNOSTIKO (KOD)\nIzpraševalec: Merklin Dušan \n\nIZDELAVA IZDELKA OZ. STORITVE Z ZAGOVOROM ob 8.00 v učilnici B017\n\nIzpitna komisija: \n\nMerklin Dušan – izpraševalec\nŠuhel Boštjan – član\nRitonja Blaž – predsednik\n\n
URL:https://www.tscmb.si/dogodek/popravni-dopolnilni-in-predmetni-izpiti-jesenski-rok/
CATEGORIES:Srednja šola
ORGANIZER;CN="T%C5%A0C%20Maribor":MAILTO:info@tscmb.si
END:VEVENT
END:VCALENDAR