BEGIN:VCALENDAR
VERSION:2.0
PRODID:-//TŠC Maribor - ECPv4.5.13//NONSGML v1.0//EN
CALSCALE:GREGORIAN
METHOD:PUBLISH
X-WR-CALNAME:TŠC Maribor
X-ORIGINAL-URL:https://www.tscmb.si
X-WR-CALDESC:Events for TŠC Maribor
BEGIN:VEVENT
DTSTART;VALUE=DATE:20190416
DTEND;VALUE=DATE:20190417
DTSTAMP:20260420T133703
CREATED:20190410T171031Z
LAST-MODIFIED:20190410T171031Z
UID:14030-1555376400-1555462799@www.tscmb.si
SUMMARY:Predavanje: Varno in odgovorno na spletu
DESCRIPTION:
URL:https://www.tscmb.si/dogodek/predavanje-varno-in-odgovorno-na-spletu/
CATEGORIES:Srednja šola
END:VEVENT
END:VCALENDAR