BEGIN:VCALENDAR
VERSION:2.0
PRODID:-//TŠC Maribor - ECPv4.5.13//NONSGML v1.0//EN
CALSCALE:GREGORIAN
METHOD:PUBLISH
X-WR-CALNAME:TŠC Maribor
X-ORIGINAL-URL:https://www.tscmb.si
X-WR-CALDESC:Events for TŠC Maribor
BEGIN:VEVENT
DTSTART;VALUE=DATE:20181221
DTEND;VALUE=DATE:20181221
DTSTAMP:20260420T093830
CREATED:20181220T142220Z
LAST-MODIFIED:20181220T212751Z
UID:12964-1545350400-1545436799@www.tscmb.si
SUMMARY:Referat 21. 12. 2018 zaprt
DESCRIPTION:
URL:https://www.tscmb.si/dogodek/referat-21-12-2018-zaprt/
CATEGORIES:Višja strokovna šola
ORGANIZER;CN="T%C5%A0C%20Maribor%2C%20Vi%C5%A1ja%20strokovna%20%C5%A1ola":MAILTO:referat@tscmb.si
END:VEVENT
END:VCALENDAR