BEGIN:VCALENDAR
VERSION:2.0
PRODID:-//TŠC Maribor - ECPv4.5.13//NONSGML v1.0//EN
CALSCALE:GREGORIAN
METHOD:PUBLISH
X-WR-CALNAME:TŠC Maribor
X-ORIGINAL-URL:https://www.tscmb.si
X-WR-CALDESC:Events for TŠC Maribor
BEGIN:VEVENT
DTSTART;TZID=UTC+2:20240905T170000
DTEND;TZID=UTC+2:20240905T190000
DTSTAMP:20260421T112832
CREATED:20240830T062304Z
LAST-MODIFIED:20240830T062304Z
UID:26410-1725555600-1725562800@www.tscmb.si
SUMMARY:Roditeljski sestanek za 1. letnike  (SSI+PTI)
DESCRIPTION:Spoštovani starši oz. skrbniki! \nVabimo vas na 1. roditeljski sestanek v novem šolskem letu 2024/2025. \nSREDNJE STROKOVNO IZOBRAŽEVANJE – SSI\n\n\n\nRazred\nRazredničarka / Razrednik\nProgram\nUčilnica\n\n\n1.a/1\nSuzana Dvoršič\nSSI – strojni tehnik\nC 308\n\n\n1.b/1\nŽeljko Oberški\nSSI – tehnik mehatronike\nA 111\n\n\n1.c/1\nMojca Hanželj\nSSI – tehnik mehatronike\nC 003\n\n\n\n\nPOKLICNO TEHNIŠKO IZOBRAŽEVANJE – PTI\n\n\n\nRazred\nRazredničarka / Razrednik\nProgram\nUčilnica\n\n\n1.d/1\nFranc Gajšek\nPTI – strojni tehnik\nC 312\n\n\n1.e/1\nMihael Kukovec\nPTI – avtoservisni tehnik\nA 207\n\n\n\n
URL:https://www.tscmb.si/dogodek/roditeljski-sestanek-za-1-letnike-ssipti/
LOCATION:Zolajeva ulica 12\, Maribor\, 2000\, Slovenija
CATEGORIES:Srednja šola
ORGANIZER;CN="T%C5%A0C%20Maribor":MAILTO:info@tscmb.si
END:VEVENT
END:VCALENDAR