BEGIN:VCALENDAR
VERSION:2.0
PRODID:-//TŠC Maribor - ECPv4.5.13//NONSGML v1.0//EN
CALSCALE:GREGORIAN
METHOD:PUBLISH
X-WR-CALNAME:TŠC Maribor
X-ORIGINAL-URL:https://www.tscmb.si
X-WR-CALDESC:Events for TŠC Maribor
BEGIN:VEVENT
DTSTART;TZID=UTC+2:20240912T170000
DTEND;TZID=UTC+2:20240912T183000
DTSTAMP:20260421T120316
CREATED:20240906T094104Z
LAST-MODIFIED:20240906T094241Z
UID:26479-1726160400-1726165800@www.tscmb.si
SUMMARY:RODITELJSKI SESTANEK ZA 2.D/1
DESCRIPTION:Spoštovani starši oz. skrbniki! \nVabimo vas na 1. roditeljski sestanek v novem šolskem letu 2024/2025. Roditeljski sestanek bo potekal po naslednjem razporedu: \nČETRTEK\, 12. 9. 2024\, ob 17.00\nSREDNJE STROKOVNO IZOBRAŽEVANJE – SSI\n\n\n\nRazred\nRazredničarka\nProgram\nUčilnica\n\n\n2.d/1\nKatja Majcenovič\nSSI – tehnik mehatronike\nC 113\n\n\n\n
URL:https://www.tscmb.si/dogodek/roditeljski-sestanek-za-2-d-1/
LOCATION:Zolajeva ulica 12\, Maribor\, 2000\, Slovenija
CATEGORIES:Srednja šola
ORGANIZER;CN="T%C5%A0C%20Maribor":MAILTO:info@tscmb.si
END:VEVENT
END:VCALENDAR