BEGIN:VCALENDAR
VERSION:2.0
PRODID:-//TŠC Maribor - ECPv4.5.13//NONSGML v1.0//EN
CALSCALE:GREGORIAN
METHOD:PUBLISH
X-WR-CALNAME:TŠC Maribor
X-ORIGINAL-URL:https://www.tscmb.si
X-WR-CALDESC:Events for TŠC Maribor
BEGIN:VEVENT
DTSTART;TZID=UTC+2:20240911T170000
DTEND;TZID=UTC+2:20240911T183000
DTSTAMP:20260421T112908
CREATED:20240906T093922Z
LAST-MODIFIED:20240906T094128Z
UID:26477-1726074000-1726079400@www.tscmb.si
SUMMARY:RODITELJSKI SESTANKI ZA 2.\, 3. in 4. LETNIKE
DESCRIPTION:Spoštovani starši oz. skrbniki! \nVabimo vas na 1. roditeljski sestanek v novem šolskem letu 2024/2025. Roditeljski sestanki bodo potekali po naslednjem razporedu: \nSREDA\, 11. 9. 2024\, ob 17.00\nSREDNJE STROKOVNO IZOBRAŽEVANJE – SSI\n\n\n\nRazred\nRazredničarka / Razrednik\nProgram\nUčilnica\n\n\n2.a/1\nJernej Šenveter\nSSI – strojni tehnik\nA 207\n\n\n2.b/1\nVlasta Marjanovič\nSSI – strojni tehnik\nC 203\n\n\n2.c/1\nPavlina Grošelj\nSSI – tehnik mehatronike\nA 203\n\n\n3.a/1\nLeila Marek Crnjac\nSSI – strojni tehnik\nC 103\n\n\n3.b/1\nRamona Arnuš\nSSI – strojni tehnik\nC 001\n\n\n3.c/1\nMaja Gradišnik Breznik\nSSI – tehnik mehatronike\nC 101\n\n\n3.d/1\nBranko Bele\nSSI – tehnik mehatronike\nC 111\n\n\n4.a/1\nViktorija Šijanec\nSSI – strojni tehnik\nC 213\n\n\n4.b/1\nAnka Jemenšek\nSSI – tehnik mehatronike\nC 205\n\n\n4.c/1\nIrena Weissensteiner\nSSI – tehnik mehatronike\nC 108\n\n\n\n\nPOKLICNO TEHNIŠKO IZOBRAŽEVANJE – PTI\n\n\n\nRazred\nRazrednik\nProgram\nUčilnica\n\n\n2.e/1\nPetar Kos\nPTI – strojni tehnik\nPTI – avtoservisni tehnik\nC 303\n\n\n\n\nSREDNJE POKLICNO IZOBRAŽEVANJE – SPI\n\n\n\nRazred\nRazredničarka / Razrednik\nProgram\nUčilnica\n\n\n2.a/2\nBeno Tertinek\nSPI – avtoserviser\nC 301\n\n\n2.b/2\nTomislav Horvat\nSPI – avtoserviser\nA 205\n\n\n2.c/2\nAleksander Vudler\nSPI – avtokaroserist\nA 114\n\n\n2.d/2\nVladka Volk\nSPI – inštalater strojnih instalacij\nSPI – oblikovalec kovin orodjar\nC 208\n\n\n2.e/2\nMitja Draškovič\nSPI – mehatronik operater\nA 210\n\n\n3.b/2\nMetka Štraser\nSPI – avtoserviser\nA 202\n\n\n3.e/2\nJasna Strnad\nSPI – mehatronik operater\nC 105\n\n\n\n  \n
URL:https://www.tscmb.si/dogodek/roditeljski-sestanki-za-2-3-in-4-letnike-2/
LOCATION:Zolajeva ulica 12\, Maribor\, 2000\, Slovenija
CATEGORIES:Srednja šola
ORGANIZER;CN="T%C5%A0C%20Maribor":MAILTO:info@tscmb.si
END:VEVENT
END:VCALENDAR