BEGIN:VCALENDAR
VERSION:2.0
PRODID:-//TŠC Maribor - ECPv4.5.13//NONSGML v1.0//EN
CALSCALE:GREGORIAN
METHOD:PUBLISH
X-WR-CALNAME:TŠC Maribor
X-ORIGINAL-URL:https://www.tscmb.si
X-WR-CALDESC:Events for TŠC Maribor
BEGIN:VEVENT
DTSTART;VALUE=DATE:20221031
DTEND;VALUE=DATE:20221105
DTSTAMP:20260420T100155
CREATED:20191025T155753Z
LAST-MODIFIED:20221024T074854Z
UID:15469-1667178000-1667609999@www.tscmb.si
SUMMARY:Šola je zaprta\, jesenske počitnice!
DESCRIPTION:ŠOLA JE V ČASU OD 31. 10. 2022 DO 4. 11. 2022 ZAPRTA!\n
URL:https://www.tscmb.si/dogodek/sola-je-zaprta-jesenske-pocitnice/
CATEGORIES:MIC,Srednja šola,Višja strokovna šola
ORGANIZER;CN="T%C5%A0C%20Maribor":MAILTO:info@tscmb.si
END:VEVENT
END:VCALENDAR