BEGIN:VCALENDAR
VERSION:2.0
PRODID:-//TŠC Maribor - ECPv4.5.13//NONSGML v1.0//EN
CALSCALE:GREGORIAN
METHOD:PUBLISH
X-WR-CALNAME:TŠC Maribor
X-ORIGINAL-URL:https://www.tscmb.si/de
X-WR-CALDESC:Events for TŠC Maribor
BEGIN:VEVENT
DTSTART;TZID=UTC+2:20181211T170000
DTEND;TZID=UTC+2:20181211T183000
DTSTAMP:20260420T113642
CREATED:20181203T124547Z
LAST-MODIFIED:20181203T124547Z
UID:12887-1544547600-1544553000@www.tscmb.si
SUMMARY:(Slovenian) Srečanje s starši 1. letnikov SPI za PUD
DESCRIPTION:Leider ist der Eintrag nur auf Slowenisch verfügbar. \n
URL:https://www.tscmb.si/de/dogodek/srecanje-s-starsi-1-letnikov-spi-za-pud/
CATEGORIES:Mittelschule
END:VEVENT
END:VCALENDAR