BEGIN:VCALENDAR
VERSION:2.0
PRODID:-//TŠC Maribor - ECPv4.5.13//NONSGML v1.0//EN
CALSCALE:GREGORIAN
METHOD:PUBLISH
X-WR-CALNAME:TŠC Maribor
X-ORIGINAL-URL:https://www.tscmb.si
X-WR-CALDESC:Events for TŠC Maribor
BEGIN:VEVENT
DTSTART;TZID=UTC+2:20240522T165000
DTEND;TZID=UTC+2:20240522T180000
DTSTAMP:20260420T220753
CREATED:20240517T075642Z
LAST-MODIFIED:20240517T075709Z
UID:25920-1716396600-1716400800@www.tscmb.si
SUMMARY:(STR2/VSN) Strokovna ekskurzija v podjetje Weiler Abrasives
DESCRIPTION:(STR2) Obvestilo za predmet VSN \n \n
URL:https://www.tscmb.si/dogodek/str2-vsn-strokovna-ekskurzija-v-podjetje-weiler-abrasives-d-o-o/
LOCATION:Titova cesta 60\, Maribor\, 2000\, Slovenija
CATEGORIES:Višja strokovna šola
ORGANIZER;CN="T%C5%A0C%20Maribor%2C%20Vi%C5%A1ja%20strokovna%20%C5%A1ola":MAILTO:referat@tscmb.si
END:VEVENT
END:VCALENDAR