BEGIN:VCALENDAR
VERSION:2.0
PRODID:-//TŠC Maribor - ECPv4.5.13//NONSGML v1.0//EN
CALSCALE:GREGORIAN
METHOD:PUBLISH
X-WR-CALNAME:TŠC Maribor
X-ORIGINAL-URL:https://www.tscmb.si
X-WR-CALDESC:Events for TŠC Maribor
BEGIN:VEVENT
DTSTART;TZID=UTC+2:20260128T064000
DTEND;TZID=UTC+2:20260128T163000
DTSTAMP:20260419T222402
CREATED:20260115T123033Z
LAST-MODIFIED:20260115T123033Z
UID:29190-1769582400-1769617800@www.tscmb.si
SUMMARY:Strokovna ekskurzija (4.a/1 in 4.b/1)
DESCRIPTION:28. 1. 2026: Sežigalnica Celje in Muzej premogovništva Velenje \n \n
URL:https://www.tscmb.si/dogodek/strokovna-ekskurzija-4-a-1-in-4-b-1/
CATEGORIES:Srednja šola
ORGANIZER;CN="T%C5%A0C%20Maribor":MAILTO:info@tscmb.si
END:VEVENT
END:VCALENDAR