BEGIN:VCALENDAR
VERSION:2.0
PRODID:-//TŠC Maribor - ECPv4.5.13//NONSGML v1.0//EN
CALSCALE:GREGORIAN
METHOD:PUBLISH
X-WR-CALNAME:TŠC Maribor
X-ORIGINAL-URL:https://www.tscmb.si
X-WR-CALDESC:Events for TŠC Maribor
BEGIN:VEVENT
DTSTART;TZID=UTC+2:20240207T083000
DTEND;TZID=UTC+2:20240207T150000
DTSTAMP:20260420T110441
CREATED:20240205T080210Z
LAST-MODIFIED:20240205T080210Z
UID:25209-1707294600-1707318000@www.tscmb.si
SUMMARY:Strokovna ekskurzija - GEA VIPOLL d.o.o in Ptuj
DESCRIPTION:7. 2. 2024: GEA VIPOLL d.o.o in Ptuj (strokovna ekskurzija) \n \n
URL:https://www.tscmb.si/dogodek/strokovna-ekskurzija-gea-vipoll-d-o-o-in-ptuj/
CATEGORIES:Srednja šola
ORGANIZER;CN="T%C5%A0C%20Maribor":MAILTO:info@tscmb.si
END:VEVENT
END:VCALENDAR