BEGIN:VCALENDAR
VERSION:2.0
PRODID:-//TŠC Maribor - ECPv4.5.13//NONSGML v1.0//EN
CALSCALE:GREGORIAN
METHOD:PUBLISH
X-WR-CALNAME:TŠC Maribor
X-ORIGINAL-URL:https://www.tscmb.si
X-WR-CALDESC:Events for TŠC Maribor
BEGIN:VEVENT
DTSTART;VALUE=DATE:20241114
DTEND;VALUE=DATE:20241115
DTSTAMP:20260420T230046
CREATED:20241104T102059Z
LAST-MODIFIED:20241104T102059Z
UID:26907-1731542400-1731715199@www.tscmb.si
SUMMARY:Strokovna ekskurzija: Linz (4.a/1\, 4.c/1)
DESCRIPTION:14. 11. in 15. 11. 2024: STROKOVNA EKSKURZIJA V LINZ \n \n
URL:https://www.tscmb.si/dogodek/strokovna-ekskurzija-linz-4-a-1-4-c-1/
CATEGORIES:Srednja šola
ORGANIZER;CN="T%C5%A0C%20Maribor":MAILTO:info@tscmb.si
END:VEVENT
END:VCALENDAR