BEGIN:VCALENDAR
VERSION:2.0
PRODID:-//TŠC Maribor - ECPv4.5.13//NONSGML v1.0//EN
CALSCALE:GREGORIAN
METHOD:PUBLISH
X-WR-CALNAME:TŠC Maribor
X-ORIGINAL-URL:https://www.tscmb.si
X-WR-CALDESC:Events for TŠC Maribor
BEGIN:VEVENT
DTSTART;TZID=UTC+2:20240416T080000
DTEND;TZID=UTC+2:20240416T200000
DTSTAMP:20260421T041920
CREATED:20240403T161525Z
LAST-MODIFIED:20240403T161525Z
UID:25636-1713254400-1713297600@www.tscmb.si
SUMMARY:Strokovna ekskurzija v Zagreb
DESCRIPTION:16. 4. 2024: Strokovna ekskurzija v Zagreb \n \n
URL:https://www.tscmb.si/dogodek/strokovna-ekskurzija-v-zagreb/
CATEGORIES:Srednja šola
ORGANIZER;CN="T%C5%A0C%20Maribor":MAILTO:info@tscmb.si
END:VEVENT
END:VCALENDAR